BEGIN:VCALENDAR
VERSION:2.0
PRODID:-//Eagle View Elementary - ECPv6.2.8.1//NONSGML v1.0//EN
CALSCALE:GREGORIAN
METHOD:PUBLISH
X-WR-CALNAME:Eagle View Elementary
X-ORIGINAL-URL:https://eagleview.sd61.bc.ca
X-WR-CALDESC:Events for Eagle View Elementary
REFRESH-INTERVAL;VALUE=DURATION:PT1H
X-Robots-Tag:noindex
X-PUBLISHED-TTL:PT1H
BEGIN:VTIMEZONE
TZID:America/Vancouver
BEGIN:DAYLIGHT
TZOFFSETFROM:-0800
TZOFFSETTO:-0700
TZNAME:PDT
DTSTART:20130310T100000
END:DAYLIGHT
BEGIN:STANDARD
TZOFFSETFROM:-0700
TZOFFSETTO:-0800
TZNAME:PST
DTSTART:20131103T090000
END:STANDARD
END:VTIMEZONE
BEGIN:VEVENT
DTSTART;VALUE=DATE:20130605
DTEND;VALUE=DATE:20130606
DTSTAMP:20260422T103954
CREATED:20130515T201041Z
LAST-MODIFIED:20130604T194031Z
UID:718-1370390400-1370476799@eagleview.sd61.bc.ca
SUMMARY:Popcorn Recess
DESCRIPTION:This is a PAC organized fund raiser completely optional for students.
URL:https://eagleview.sd61.bc.ca/calendar-event/popcorn-recess/
END:VEVENT
BEGIN:VEVENT
DTSTART;VALUE=DATE:20130607
DTEND;VALUE=DATE:20130608
DTSTAMP:20260422T103954
CREATED:20130515T200246Z
LAST-MODIFIED:20130604T194031Z
UID:706-1370563200-1370649599@eagleview.sd61.bc.ca
SUMMARY:Subway Day
DESCRIPTION:This is a PAC organized fund raiser lunch completely optional for students.
URL:https://eagleview.sd61.bc.ca/calendar-event/subway-day/
END:VEVENT
BEGIN:VEVENT
DTSTART;TZID=America/Vancouver:20130612T145000
DTEND;TZID=America/Vancouver:20130612T160000
DTSTAMP:20260422T103954
CREATED:20130515T200325Z
LAST-MODIFIED:20130604T194030Z
UID:708-1371048600-1371052800@eagleview.sd61.bc.ca
SUMMARY:Staff Meeting
DESCRIPTION:
URL:https://eagleview.sd61.bc.ca/calendar-event/staff-meeting/
LOCATION:Eagle View Library\, 97 Talcott Road\, Victoria\, BC\, V9B 6L9\, Canada
END:VEVENT
BEGIN:VEVENT
DTSTART;TZID=America/Vancouver:20130612T183000
DTEND;TZID=America/Vancouver:20130612T200000
DTSTAMP:20260422T103954
CREATED:20130515T200346Z
LAST-MODIFIED:20130604T194030Z
UID:709-1371061800-1371067200@eagleview.sd61.bc.ca
SUMMARY:PAC Meeting
DESCRIPTION:All parents are invited to attend the monthly meeting.
URL:https://eagleview.sd61.bc.ca/calendar-event/pac-meeting/
LOCATION:Eagle View Library\, 97 Talcott Road\, Victoria\, BC\, V9B 6L9\, Canada
END:VEVENT
BEGIN:VEVENT
DTSTART;VALUE=DATE:20130614
DTEND;VALUE=DATE:20130615
DTSTAMP:20260422T103954
CREATED:20130515T200400Z
LAST-MODIFIED:20130604T194030Z
UID:710-1371168000-1371254399@eagleview.sd61.bc.ca
SUMMARY:Crazy Hat Day
DESCRIPTION:
URL:https://eagleview.sd61.bc.ca/calendar-event/crazy-hat-day/
END:VEVENT
BEGIN:VEVENT
DTSTART;VALUE=DATE:20130616
DTEND;VALUE=DATE:20130617
DTSTAMP:20260422T103954
CREATED:20130515T200259Z
LAST-MODIFIED:20130604T194030Z
UID:707-1371340800-1371427199@eagleview.sd61.bc.ca
SUMMARY:Father's Day
DESCRIPTION:
URL:https://eagleview.sd61.bc.ca/calendar-event/fathers-day/
END:VEVENT
BEGIN:VEVENT
DTSTART;TZID=America/Vancouver:20130618T083000
DTEND;TZID=America/Vancouver:20130618T143500
DTSTAMP:20260422T103954
CREATED:20130618T211406Z
LAST-MODIFIED:20130618T211406Z
UID:2902-1371544200-1371566100@eagleview.sd61.bc.ca
SUMMARY:Last Day of School
DESCRIPTION:Final report cards go home today.
URL:https://eagleview.sd61.bc.ca/calendar-event/last-day-of-school-2/
LOCATION:Eagle View Elementary\, 97 Talcott Road\, Victoria\, BC\, V9B 6L9\, Canada
END:VEVENT
BEGIN:VEVENT
DTSTART;TZID=America/Vancouver:20130619T090000
DTEND;TZID=America/Vancouver:20130619T140000
DTSTAMP:20260422T103954
CREATED:20130516T021813Z
LAST-MODIFIED:20130604T194030Z
UID:874-1371632400-1371650400@eagleview.sd61.bc.ca
SUMMARY:Fun Day
DESCRIPTION:Fun Day is scheduled for all students. We have organized students in multiage groups and will be cycled through a number of playful activities.
URL:https://eagleview.sd61.bc.ca/calendar-event/fun-day/
LOCATION:School Field
ORGANIZER;CN="Fun Day":MAILTO:ksstrange@shaw.ca
END:VEVENT
BEGIN:VEVENT
DTSTART;TZID=America/Vancouver:20130624T124500
DTEND;TZID=America/Vancouver:20130624T131500
DTSTAMP:20260422T103954
CREATED:20130515T200430Z
LAST-MODIFIED:20130604T194030Z
UID:711-1372077900-1372079700@eagleview.sd61.bc.ca
SUMMARY:Student Recognition Assembly
DESCRIPTION:
URL:https://eagleview.sd61.bc.ca/calendar-event/student-recognition-assembly/
END:VEVENT
BEGIN:VEVENT
DTSTART;TZID=America/Vancouver:20130626T123000
DTEND;TZID=America/Vancouver:20130626T130000
DTSTAMP:20260422T103954
CREATED:20130515T200454Z
LAST-MODIFIED:20130604T194030Z
UID:712-1372249800-1372251600@eagleview.sd61.bc.ca
SUMMARY:Volunteer Tea
DESCRIPTION:
URL:https://eagleview.sd61.bc.ca/calendar-event/volunteer-tea/
END:VEVENT
BEGIN:VEVENT
DTSTART;TZID=America/Vancouver:20130626T131500
DTEND;TZID=America/Vancouver:20130626T140000
DTSTAMP:20260422T103954
CREATED:20130515T200519Z
LAST-MODIFIED:20130604T194030Z
UID:713-1372252500-1372255200@eagleview.sd61.bc.ca
SUMMARY:Final Assembly
DESCRIPTION:
URL:https://eagleview.sd61.bc.ca/calendar-event/final-assembly/
END:VEVENT
BEGIN:VEVENT
DTSTART;VALUE=DATE:20130627
DTEND;VALUE=DATE:20130628
DTSTAMP:20260422T103954
CREATED:20130515T200540Z
LAST-MODIFIED:20130604T194030Z
UID:714-1372291200-1372377599@eagleview.sd61.bc.ca
SUMMARY:Last Day of School
DESCRIPTION:Term 3 Report Cards go home.
URL:https://eagleview.sd61.bc.ca/calendar-event/last-day-of-school/
END:VEVENT
BEGIN:VEVENT
DTSTART;VALUE=DATE:20130627
DTEND;VALUE=DATE:20130628
DTSTAMP:20260422T103954
CREATED:20130516T201731Z
LAST-MODIFIED:20130604T194030Z
UID:901-1372291200-1372377599@eagleview.sd61.bc.ca
SUMMARY:TERM 3 Report Cards Go Home
DESCRIPTION:Have a great summer and see you in September!
URL:https://eagleview.sd61.bc.ca/calendar-event/term-3-reportcards-go-home/
END:VEVENT
BEGIN:VEVENT
DTSTART;VALUE=DATE:20130628
DTEND;VALUE=DATE:20130629
DTSTAMP:20260422T103954
CREATED:20130515T200551Z
LAST-MODIFIED:20130604T194030Z
UID:715-1372377600-1372463999@eagleview.sd61.bc.ca
SUMMARY:Administration Day
DESCRIPTION:
URL:https://eagleview.sd61.bc.ca/calendar-event/administration-day/
END:VEVENT
END:VCALENDAR