BEGIN:VCALENDAR
VERSION:2.0
PRODID:-//Eagle View Elementary - ECPv6.2.8.1//NONSGML v1.0//EN
CALSCALE:GREGORIAN
METHOD:PUBLISH
X-WR-CALNAME:Eagle View Elementary
X-ORIGINAL-URL:https://eagleview.sd61.bc.ca
X-WR-CALDESC:Events for Eagle View Elementary
REFRESH-INTERVAL;VALUE=DURATION:PT1H
X-Robots-Tag:noindex
X-PUBLISHED-TTL:PT1H
BEGIN:VTIMEZONE
TZID:America/Vancouver
BEGIN:DAYLIGHT
TZOFFSETFROM:-0800
TZOFFSETTO:-0700
TZNAME:PDT
DTSTART:20130310T100000
END:DAYLIGHT
BEGIN:STANDARD
TZOFFSETFROM:-0700
TZOFFSETTO:-0800
TZNAME:PST
DTSTART:20131103T090000
END:STANDARD
END:VTIMEZONE
BEGIN:VEVENT
DTSTART;VALUE=DATE:20131111
DTEND;VALUE=DATE:20131112
DTSTAMP:20260420T224639
CREATED:20130604T195814Z
LAST-MODIFIED:20130604T195814Z
UID:2562-1384128000-1384214399@eagleview.sd61.bc.ca
SUMMARY:Remembrance Day
DESCRIPTION:School not in session.
URL:https://eagleview.sd61.bc.ca/calendar-event/remembrance-day/
LOCATION:Eagle View Elementary\, 97 Talcott Road\, Victoria\, BC\, V9B 6L9\, Canada
END:VEVENT
BEGIN:VEVENT
DTSTART;TZID=America/Vancouver:20131108T104500
DTEND;TZID=America/Vancouver:20131108T111500
DTSTAMP:20260420T224639
CREATED:20130604T195432Z
LAST-MODIFIED:20130604T195555Z
UID:2559-1383907500-1383909300@eagleview.sd61.bc.ca
SUMMARY:Remembrance Day Assembly
DESCRIPTION:Please join us to honour our brave men and women who have served and serve in the Armed Forces.
URL:https://eagleview.sd61.bc.ca/calendar-event/remembrance-day-assembly/
LOCATION:Eagle View Gymnasium\, 97 Talcott Road\, Victoria\, BC\, V9B 6L9\, Canada
END:VEVENT
BEGIN:VEVENT
DTSTART;TZID=America/Vancouver:20131105T151500
DTEND;TZID=America/Vancouver:20131105T160000
DTSTAMP:20260420T224639
CREATED:20131029T205827Z
LAST-MODIFIED:20131029T215644Z
UID:3841-1383664500-1383667200@eagleview.sd61.bc.ca
SUMMARY:Swim Team Practice
DESCRIPTION:Please contact Pam Wiersma if you have any questions.
URL:https://eagleview.sd61.bc.ca/calendar-event/swim-team-practice/
LOCATION:Commonwealth Pool\, 4636 Elk Lake Drive\, Victoria\, BC\, V8Z 5M1\, Canada
ORGANIZER;CN="Pam Wiersma":MAILTO:pwiersma@sd61.bc.ca
END:VEVENT
BEGIN:VEVENT
DTSTART;TZID=America/Vancouver:20131105T091500
DTEND;TZID=America/Vancouver:20131105T104500
DTSTAMP:20260420T224639
CREATED:20131104T232327Z
LAST-MODIFIED:20131104T232327Z
UID:3941-1383642900-1383648300@eagleview.sd61.bc.ca
SUMMARY:Field Trip - Divs 7 & 8
DESCRIPTION:Divs 7 & 8 are off for a skate at Pearkes Arena this morning!
URL:https://eagleview.sd61.bc.ca/calendar-event/field-trip-divs-7-8-2/
LOCATION:Pearkes Arena\, 3100 Tillicum Rd\, Victoria\, BC\, V9A 6T2\, Canada
END:VEVENT
BEGIN:VEVENT
DTSTART;TZID=America/Vancouver:20131105T090000
DTEND;TZID=America/Vancouver:20131105T114000
DTSTAMP:20260420T224639
CREATED:20130604T194751Z
LAST-MODIFIED:20130604T195051Z
UID:2556-1383642000-1383651600@eagleview.sd61.bc.ca
SUMMARY:Photo Retake Morning
DESCRIPTION:For any students and staff who missed the first photo day in September…
URL:https://eagleview.sd61.bc.ca/calendar-event/photo-retake-morning/
LOCATION:Eagle View Nest\, 97 Talcott Road\, Victoria\, BC\, V9B 6L9\, Canada
END:VEVENT
BEGIN:VEVENT
DTSTART;TZID=America/Vancouver:20131104T090000
DTEND;TZID=America/Vancouver:20131108T120000
DTSTAMP:20260420T224639
CREATED:20131104T225151Z
LAST-MODIFIED:20131104T225151Z
UID:3932-1383555600-1383912000@eagleview.sd61.bc.ca
SUMMARY:First Nations Storytelling & Drumming
DESCRIPTION:First Nation’s Teacher\, Louise Milburn will be in the school this week working with all our students on traditional storytelling and drumming.
URL:https://eagleview.sd61.bc.ca/calendar-event/first-nations-storytelling-drumming/
LOCATION:Eagle View Elementary\, 97 Talcott Road\, Victoria\, BC\, V9B 6L9\, Canada
END:VEVENT
BEGIN:VEVENT
DTSTART;TZID=America/Vancouver:20131101T102000
DTEND;TZID=America/Vancouver:20131101T103000
DTSTAMP:20260420T224639
CREATED:20130604T194335Z
LAST-MODIFIED:20130604T204655Z
UID:2552-1383301200-1383301800@eagleview.sd61.bc.ca
SUMMARY:Popcorn Recess
DESCRIPTION:This is a PAC organized fund raiser completely optional for students.
URL:https://eagleview.sd61.bc.ca/calendar-event/popcorn-recess-3/
LOCATION:Eagle View Elementary\, 97 Talcott Road\, Victoria\, BC\, V9B 6L9\, Canada
END:VEVENT
BEGIN:VEVENT
DTSTART;TZID=America/Vancouver:20131031T080000
DTEND;TZID=America/Vancouver:20131031T170000
DTSTAMP:20260420T224639
CREATED:20130604T192746Z
LAST-MODIFIED:20130604T194023Z
UID:2543-1383206400-1383238800@eagleview.sd61.bc.ca
SUMMARY:Black & Orange Day
DESCRIPTION:Our traditional black & orange theme colors are worn today rather than costumes.
URL:https://eagleview.sd61.bc.ca/calendar-event/black-orange-day/
LOCATION:Eagle View Elementary\, 97 Talcott Road\, Victoria\, BC\, V9B 6L9\, Canada
END:VEVENT
BEGIN:VEVENT
DTSTART;TZID=America/Vancouver:20131028T130000
DTEND;TZID=America/Vancouver:20131028T143000
DTSTAMP:20260420T224639
CREATED:20130702T165259Z
LAST-MODIFIED:20131021T200957Z
UID:3045-1382965200-1382970600@eagleview.sd61.bc.ca
SUMMARY:Cross Country Final
DESCRIPTION:For grades 3\, 4 & 5 students at Beacon Hill Park.
URL:https://eagleview.sd61.bc.ca/calendar-event/cross-country-final/
LOCATION:Beacon Hill Park\, 97 Talcott Road\, Victoria\, BC\, V9B 6L9\, Canada
END:VEVENT
BEGIN:VEVENT
DTSTART;TZID=America/Vancouver:20131025T080000
DTEND;TZID=America/Vancouver:20131025T170000
DTSTAMP:20260420T224639
CREATED:20130604T183938Z
LAST-MODIFIED:20130604T194023Z
UID:2540-1382688000-1382720400@eagleview.sd61.bc.ca
SUMMARY:Professional Development Day (Provincial)
DESCRIPTION:School not in session.
URL:https://eagleview.sd61.bc.ca/calendar-event/professional-development-day-provincial/
LOCATION:Eagle View Elementary\, 97 Talcott Road\, Victoria\, V9B 6L9\, Canada
END:VEVENT
BEGIN:VEVENT
DTSTART;TZID=America/Vancouver:20131024T135000
DTEND;TZID=America/Vancouver:20131024T143000
DTSTAMP:20260420T224639
CREATED:20130604T183436Z
LAST-MODIFIED:20130604T194023Z
UID:2537-1382622600-1382625000@eagleview.sd61.bc.ca
SUMMARY:Harvest Assembly
DESCRIPTION:Please come join us for a few songs from our primary students.
URL:https://eagleview.sd61.bc.ca/calendar-event/harvest-assembly/
LOCATION:Eagle View Gymnasium\, 97 Talcott Road\, Victoria\, BC\, V9B 6L9\, Canada
END:VEVENT
BEGIN:VEVENT
DTSTART;TZID=America/Vancouver:20131021T154500
DTEND;TZID=America/Vancouver:20131021T170000
DTSTAMP:20260420T224639
CREATED:20131021T201243Z
LAST-MODIFIED:20131021T201243Z
UID:3700-1382370300-1382374800@eagleview.sd61.bc.ca
SUMMARY:Cross Country Meet
DESCRIPTION:The meet is in Esquimalt at  Gorge Kinsmen Park.
URL:https://eagleview.sd61.bc.ca/calendar-event/cross-country-meet-4/
LOCATION:Gorge Kinsmen Park\, BC\, Canada
END:VEVENT
BEGIN:VEVENT
DTSTART;TZID=America/Vancouver:20131018T114000
DTEND;TZID=America/Vancouver:20131018T121000
DTSTAMP:20260420T224639
CREATED:20130604T173605Z
LAST-MODIFIED:20130604T194023Z
UID:2529-1382096400-1382098200@eagleview.sd61.bc.ca
SUMMARY:Pizza Lunch
DESCRIPTION:This is a PAC organized fund raiser lunch completely optional for students.
URL:https://eagleview.sd61.bc.ca/calendar-event/pizza-lunch-2/
LOCATION:Eagle View Elementary\, 97 Talcott Road\, Victoria\, BC\, V9B 6L9\, Canada
END:VEVENT
BEGIN:VEVENT
DTSTART;TZID=America/Vancouver:20131017T114000
DTEND;TZID=America/Vancouver:20131017T143000
DTSTAMP:20260420T224639
CREATED:20130911T202506Z
LAST-MODIFIED:20130911T202506Z
UID:3257-1382010000-1382020200@eagleview.sd61.bc.ca
SUMMARY:Div 5 Field Trip
DESCRIPTION:Mrs. Christoff’s class is going to Francis King Regional Park; leaving at 11:40 and returning at 2:30 p.m.
URL:https://eagleview.sd61.bc.ca/calendar-event/div-5-field-trip-2/
LOCATION:Eagle View Elementary\, 97 Talcott Road\, Victoria\, V9B 6L9\, Canada
END:VEVENT
BEGIN:VEVENT
DTSTART;TZID=America/Vancouver:20131015T154500
DTEND;TZID=America/Vancouver:20131015T170000
DTSTAMP:20260420T224639
CREATED:20130702T163128Z
LAST-MODIFIED:20130702T163128Z
UID:3041-1381851900-1381856400@eagleview.sd61.bc.ca
SUMMARY:Cross Country Meet
DESCRIPTION:For grades 3\, 4 & 5 students. Venue TBA.
URL:https://eagleview.sd61.bc.ca/calendar-event/cross-country-meet-3/
END:VEVENT
BEGIN:VEVENT
DTSTART;VALUE=DATE:20131014
DTEND;VALUE=DATE:20131015
DTSTAMP:20260420T224639
CREATED:20130604T165504Z
LAST-MODIFIED:20130604T194023Z
UID:2520-1381708800-1381795199@eagleview.sd61.bc.ca
SUMMARY:THANKSGIVING HOLIDAY
DESCRIPTION:
URL:https://eagleview.sd61.bc.ca/calendar-event/thanksgiving-holiday/
LOCATION:Eagle View Elementary
END:VEVENT
BEGIN:VEVENT
DTSTART;TZID=America/Vancouver:20131011T114000
DTEND;TZID=America/Vancouver:20131011T120500
DTSTAMP:20260420T224639
CREATED:20130604T170625Z
LAST-MODIFIED:20130604T194023Z
UID:2524-1381491600-1381493100@eagleview.sd61.bc.ca
SUMMARY:Subway Lunch
DESCRIPTION:This is a PAC organized fund raiser lunch completely optional for students.
URL:https://eagleview.sd61.bc.ca/calendar-event/subway-lunch/
LOCATION:Subway Lunch\, 97 Talcott Road\, Victoria\, V9B 6L9
END:VEVENT
BEGIN:VEVENT
DTSTART;TZID=America/Vancouver:20131009T183000
DTEND;TZID=America/Vancouver:20131009T200000
DTSTAMP:20260420T224639
CREATED:20130604T165915Z
LAST-MODIFIED:20130604T194023Z
UID:2522-1381343400-1381348800@eagleview.sd61.bc.ca
SUMMARY:PAC Mtg
DESCRIPTION:All parents are invited to attend the monthly meeting.
URL:https://eagleview.sd61.bc.ca/calendar-event/pac-mtg-2/
LOCATION:Eagle View Library\, 97 Talcott Road\, Victoria\, BC\, V9B 6L9\, Canada
END:VEVENT
BEGIN:VEVENT
DTSTART;TZID=America/Vancouver:20131007T154500
DTEND;TZID=America/Vancouver:20131007T170000
DTSTAMP:20260420T224639
CREATED:20130702T161753Z
LAST-MODIFIED:20130702T161753Z
UID:3039-1381160700-1381165200@eagleview.sd61.bc.ca
SUMMARY:Cross Country Meet
DESCRIPTION:For grades 3\, 4 & 5 students. Venue TBA.
URL:https://eagleview.sd61.bc.ca/calendar-event/cross-country-meet-2/
END:VEVENT
BEGIN:VEVENT
DTSTART;TZID=America/Vancouver:20131004T101000
DTEND;TZID=America/Vancouver:20131004T103000
DTSTAMP:20260420T224639
CREATED:20130516T221023Z
LAST-MODIFIED:20130604T194023Z
UID:936-1380881400-1380882600@eagleview.sd61.bc.ca
SUMMARY:Popcorn Recess
DESCRIPTION:This is a PAC organized fund raiser completely optional for students.
URL:https://eagleview.sd61.bc.ca/calendar-event/popcorn-recess-2/
LOCATION:Eagle View Elementary
END:VEVENT
BEGIN:VEVENT
DTSTART;TZID=America/Vancouver:20131003T114000
DTEND;TZID=America/Vancouver:20131003T174000
DTSTAMP:20260420T224639
CREATED:20130516T215631Z
LAST-MODIFIED:20130604T194023Z
UID:931-1380800400-1380822000@eagleview.sd61.bc.ca
SUMMARY:Parent/Teacher Conferences
DESCRIPTION:Please note we have a 11:41 am school dismissal. Teachers will be contacting parents to schedule conference times.
URL:https://eagleview.sd61.bc.ca/calendar-event/parentteacher-conferences-2/
LOCATION:Eagle View Elementary
ORGANIZER;CN="Eagle View Elementary":MAILTO:eagleview@sd61.bc.ca
END:VEVENT
BEGIN:VEVENT
DTSTART;TZID=America/Vancouver:20131002T114000
DTEND;TZID=America/Vancouver:20131002T174000
DTSTAMP:20260420T224639
CREATED:20130516T215452Z
LAST-MODIFIED:20130604T194023Z
UID:930-1380714000-1380735600@eagleview.sd61.bc.ca
SUMMARY:Parent/Teacher Conferences
DESCRIPTION:Please note we have a 11:41 am school dismissal. Teachers will be contacting parents to schedule conference times.
URL:https://eagleview.sd61.bc.ca/calendar-event/parentteacher-conferences/
LOCATION:Eagle View Elementary
ORGANIZER;CN="Eagle View Elementary":MAILTO:eagleview@sd61.bc.ca
END:VEVENT
BEGIN:VEVENT
DTSTART;TZID=America/Vancouver:20130930T154500
DTEND;TZID=America/Vancouver:20130930T170000
DTSTAMP:20260420T224639
CREATED:20130702T161148Z
LAST-MODIFIED:20130702T161148Z
UID:3037-1380555900-1380560400@eagleview.sd61.bc.ca
SUMMARY:Cross Country Meet
DESCRIPTION:For grades 3\, 4 & 5 students. Venue TBA.
URL:https://eagleview.sd61.bc.ca/calendar-event/cross-country-meet/
END:VEVENT
BEGIN:VEVENT
DTSTART;TZID=America/Vancouver:20130927T124500
DTEND;TZID=America/Vancouver:20130927T143000
DTSTAMP:20260420T224639
CREATED:20130911T201952Z
LAST-MODIFIED:20130911T201952Z
UID:3254-1380285900-1380292200@eagleview.sd61.bc.ca
SUMMARY:Div 5 Field Trip
DESCRIPTION:Mrs. Christoff’s class is going to the Juan de Fuca Library today; leaving at 12:45 and returning at 2:30 p.m.
URL:https://eagleview.sd61.bc.ca/calendar-event/div-5-field-trip/
LOCATION:Eagle View Elementary\, 97 Talcott Road\, Victoria\, V9B 6L9\, Canada
END:VEVENT
BEGIN:VEVENT
DTSTART;VALUE=DATE:20130927
DTEND;VALUE=DATE:20130928
DTSTAMP:20260420T224639
CREATED:20130516T214901Z
LAST-MODIFIED:20130604T194023Z
UID:927-1380240000-1380326399@eagleview.sd61.bc.ca
SUMMARY:Individual Student Photos
DESCRIPTION:Life Touch will be taking care of pictures for us again this year.
URL:https://eagleview.sd61.bc.ca/calendar-event/individual-student-photos/
LOCATION:Eagle View Elementary
ORGANIZER;CN="Eagle View Elementary":MAILTO:eagleview@sd61.bc.ca
END:VEVENT
BEGIN:VEVENT
DTSTART;TZID=America/Vancouver:20130926T125000
DTEND;TZID=America/Vancouver:20130926T141000
DTSTAMP:20260420T224639
CREATED:20130911T201452Z
LAST-MODIFIED:20130911T202106Z
UID:3251-1380199800-1380204600@eagleview.sd61.bc.ca
SUMMARY:Div 4 Field Trip
DESCRIPTION:Mrs. Dougan’s class is heading to the Juan de Fuca Library; leaving the school at 12:50 and returning at 2:10 p.m.
URL:https://eagleview.sd61.bc.ca/calendar-event/div-4-field-trip-juan-de-fuca-library/
LOCATION:Eagle View Elementary\, 97 Talcott Road\, Victoria\, BC\, V9B 6L9\, Canada
END:VEVENT
BEGIN:VEVENT
DTSTART;VALUE=DATE:20130923
DTEND;VALUE=DATE:20130924
DTSTAMP:20260420T224639
CREATED:20130516T213547Z
LAST-MODIFIED:20130604T194023Z
UID:924-1379894400-1379980799@eagleview.sd61.bc.ca
SUMMARY:Professional Development Day (School Based)
DESCRIPTION:
URL:https://eagleview.sd61.bc.ca/calendar-event/professional-development-day-school-based/
LOCATION:Eagle View Elementary
ORGANIZER;CN="Eagle View Elementary":MAILTO:eagleview@sd61.bc.ca
END:VEVENT
BEGIN:VEVENT
DTSTART;TZID=America/Vancouver:20130920T110000
DTEND;TZID=America/Vancouver:20130920T113000
DTSTAMP:20260420T224639
CREATED:20130516T212552Z
LAST-MODIFIED:20130604T194023Z
UID:921-1379674800-1379676600@eagleview.sd61.bc.ca
SUMMARY:School Assembly
DESCRIPTION:An opportunity to meet as a school community and celebrate our learning.
URL:https://eagleview.sd61.bc.ca/calendar-event/school-assembly/
LOCATION:Eagle View Elementary
END:VEVENT
BEGIN:VEVENT
DTSTART;TZID=America/Vancouver:20130919T180000
DTEND;TZID=America/Vancouver:20130919T183000
DTSTAMP:20260420T224639
CREATED:20130516T212251Z
LAST-MODIFIED:20130604T194023Z
UID:918-1379613600-1379615400@eagleview.sd61.bc.ca
SUMMARY:Meet the Teacher
DESCRIPTION:This is an opportunity for the teacher to share curriculum\, classroom routines\,  expectations and other relevant information.
URL:https://eagleview.sd61.bc.ca/calendar-event/meet-the-teacher/
LOCATION:Eagle View Elementary
END:VEVENT
BEGIN:VEVENT
DTSTART;TZID=America/Vancouver:20130913T083000
DTEND;TZID=America/Vancouver:20130913T090000
DTSTAMP:20260420T224639
CREATED:20130627T185231Z
LAST-MODIFIED:20130906T202522Z
UID:3033-1379061000-1379062800@eagleview.sd61.bc.ca
SUMMARY:Pancake Breakfast
DESCRIPTION:This is a PAC sponsored this most generous breakfast for students and staff. Breakfast will be served as soon as students get settled in their classrooms. The plan is to have all the pancakes served by 8:45 a.m.
URL:https://eagleview.sd61.bc.ca/calendar-event/pancake-breakfast/
LOCATION:Eagle View Elementary\, 97 Talcott Road\, Victoria\, BC\, V9B 6L9\, Canada
END:VEVENT
END:VCALENDAR