BEGIN:VCALENDAR
VERSION:2.0
PRODID:-//Eagle View Elementary - ECPv6.2.8.1//NONSGML v1.0//EN
CALSCALE:GREGORIAN
METHOD:PUBLISH
X-WR-CALNAME:Eagle View Elementary
X-ORIGINAL-URL:https://eagleview.sd61.bc.ca
X-WR-CALDESC:Events for Eagle View Elementary
REFRESH-INTERVAL;VALUE=DURATION:PT1H
X-Robots-Tag:noindex
X-PUBLISHED-TTL:PT1H
BEGIN:VTIMEZONE
TZID:America/Vancouver
BEGIN:DAYLIGHT
TZOFFSETFROM:-0800
TZOFFSETTO:-0700
TZNAME:PDT
DTSTART:20130310T100000
END:DAYLIGHT
BEGIN:STANDARD
TZOFFSETFROM:-0700
TZOFFSETTO:-0800
TZNAME:PST
DTSTART:20131103T090000
END:STANDARD
END:VTIMEZONE
BEGIN:VEVENT
DTSTART;TZID=America/Vancouver:20131213T114000
DTEND;TZID=America/Vancouver:20131213T121000
DTSTAMP:20260419T233151
CREATED:20130604T205031Z
LAST-MODIFIED:20130604T220554Z
UID:2577-1386934800-1386936600@eagleview.sd61.bc.ca
SUMMARY:Subway Lunch
DESCRIPTION:This is a PAC organized fund raiser lunch completely optional for students.
URL:https://eagleview.sd61.bc.ca/calendar-event/subway-lunch-3/
LOCATION:Eagle View Elementary\, 97 Talcott Road\, Victoria\, BC\, V9B 6L9\, Canada
END:VEVENT
BEGIN:VEVENT
DTSTART;TZID=America/Vancouver:20131213T093000
DTEND;TZID=America/Vancouver:20131213T110000
DTSTAMP:20260419T233151
CREATED:20131104T233825Z
LAST-MODIFIED:20131104T233825Z
UID:3948-1386927000-1386932400@eagleview.sd61.bc.ca
SUMMARY:Field Trip - Divs 1\, 2 & 3
DESCRIPTION:The grade 4 & 5 students are off to enjoy some bowling at Langford Lanes this morning!
URL:https://eagleview.sd61.bc.ca/calendar-event/field-trip-divs-1-2-3-2/
LOCATION:Langford Lanes\, 1097 Langford Parkway\, Langford\, BC\, V9B 0A5\, Canada
END:VEVENT
BEGIN:VEVENT
DTSTART;TZID=America/Vancouver:20131210T151500
DTEND;TZID=America/Vancouver:20131210T160000
DTSTAMP:20260419T233151
CREATED:20131029T213758Z
LAST-MODIFIED:20131029T220038Z
UID:3857-1386688500-1386691200@eagleview.sd61.bc.ca
SUMMARY:Swim Team Practice
DESCRIPTION:Please contact Pam Wiersma if you have any questions.
URL:https://eagleview.sd61.bc.ca/calendar-event/swim-team-practice-6/
LOCATION:Commonwealth Pool\, 4636 Elk Lake Drive\, Victoria\, BC\, V8Z 5M1\, Canada
ORGANIZER;CN="Pam Wiersma":MAILTO:pwiersma@sd61.bc.ca
END:VEVENT
BEGIN:VEVENT
DTSTART;TZID=America/Vancouver:20131209T090000
DTEND;TZID=America/Vancouver:20131209T112000
DTSTAMP:20260419T233151
CREATED:20131104T233409Z
LAST-MODIFIED:20131104T233409Z
UID:3945-1386579600-1386588000@eagleview.sd61.bc.ca
SUMMARY:Kindergarten Hearing Screening
DESCRIPTION:
URL:https://eagleview.sd61.bc.ca/calendar-event/kindergarten-hearing-screening/
LOCATION:Eagle View Elementary\, 97 Talcott Road\, Victoria\, BC\, V9B 6L9\, Canada
END:VEVENT
BEGIN:VEVENT
DTSTART;TZID=America/Vancouver:20131206T143000
DTEND;TZID=America/Vancouver:20131206T143500
DTSTAMP:20260419T233151
CREATED:20130604T205415Z
LAST-MODIFIED:20130604T205415Z
UID:2583-1386340200-1386340500@eagleview.sd61.bc.ca
SUMMARY:Term 1 Report Cards
DESCRIPTION:Term 1 report cards go home with students at the end of the day.
URL:https://eagleview.sd61.bc.ca/calendar-event/term-1-report-cards/
LOCATION:Eagle View Elementary\, 97 Talcott Road\, Victoria\, BC\, V9B 6L9\, Canada
END:VEVENT
BEGIN:VEVENT
DTSTART;TZID=America/Vancouver:20131206T110000
DTEND;TZID=America/Vancouver:20131206T113000
DTSTAMP:20260419T233151
CREATED:20130604T205148Z
LAST-MODIFIED:20130604T205148Z
UID:2580-1386327600-1386329400@eagleview.sd61.bc.ca
SUMMARY:Assembly
DESCRIPTION:
URL:https://eagleview.sd61.bc.ca/calendar-event/assembly/
LOCATION:Eagle View Gymnasium\, 97 Talcott Road\, Victoria\, BC\, V9B 6L9\, Canada
END:VEVENT
BEGIN:VEVENT
DTSTART;TZID=America/Vancouver:20131206T102000
DTEND;TZID=America/Vancouver:20131206T103000
DTSTAMP:20260419T233151
CREATED:20130604T204856Z
LAST-MODIFIED:20130604T204856Z
UID:2574-1386325200-1386325800@eagleview.sd61.bc.ca
SUMMARY:Popcorn Recess
DESCRIPTION:This is a PAC organized fund raiser completely optional for students.
URL:https://eagleview.sd61.bc.ca/calendar-event/popcorn-recess-4/
LOCATION:Eagle View Elementary\, 97 Talcott Road\, Victoria\, BC\, V9B 6L9\, Canada
END:VEVENT
BEGIN:VEVENT
DTSTART;TZID=America/Vancouver:20131203T151500
DTEND;TZID=America/Vancouver:20131203T160000
DTSTAMP:20260419T233151
CREATED:20131029T213502Z
LAST-MODIFIED:20131029T215931Z
UID:3854-1386083700-1386086400@eagleview.sd61.bc.ca
SUMMARY:Swim Team Practice
DESCRIPTION:Please contact Pam Wiersma if you have any questions.
URL:https://eagleview.sd61.bc.ca/calendar-event/swim-team-practice-5/
LOCATION:Commonwealth Pool\, 4636 Elk Lake Drive\, Victoria\, BC\, V8Z 5M1\, Canada
ORGANIZER;CN="Pam Wiersma":MAILTO:pwiersma@sd61.bc.ca
END:VEVENT
BEGIN:VEVENT
DTSTART;TZID=America/Vancouver:20131129T114000
DTEND;TZID=America/Vancouver:20131129T121000
DTSTAMP:20260419T233151
CREATED:20130604T193643Z
LAST-MODIFIED:20130604T194023Z
UID:2549-1385725200-1385727000@eagleview.sd61.bc.ca
SUMMARY:Pizza Lunch
DESCRIPTION:This is a PAC organized fund raiser lunch completely optional for students.
URL:https://eagleview.sd61.bc.ca/calendar-event/pizza-lunch-3/
LOCATION:Eagle View Elementary\, 97 Talcott Road\, Victoria\, BC\, V9B 6L9\, Canada
END:VEVENT
BEGIN:VEVENT
DTSTART;TZID=America/Vancouver:20131126T151500
DTEND;TZID=America/Vancouver:20131126T160000
DTSTAMP:20260419T233151
CREATED:20131029T213154Z
LAST-MODIFIED:20131029T215844Z
UID:3851-1385478900-1385481600@eagleview.sd61.bc.ca
SUMMARY:Swim Team Practice
DESCRIPTION:Please contact Pam Wiersma if you have any questions.
URL:https://eagleview.sd61.bc.ca/calendar-event/swim-team-practice-4/
LOCATION:Commonwealth Pool\, 4636 Elk Lake Drive\, Victoria\, BC\, V8Z 5M1\, Canada
ORGANIZER;CN="Pam Wiersma":MAILTO:pwiersma@sd61.bc.ca
END:VEVENT
BEGIN:VEVENT
DTSTART;TZID=America/Vancouver:20131122T080000
DTEND;TZID=America/Vancouver:20131122T170000
DTSTAMP:20260419T233151
CREATED:20130604T200937Z
LAST-MODIFIED:20130604T200937Z
UID:2571-1385107200-1385139600@eagleview.sd61.bc.ca
SUMMARY:Professional Development Day (School-Based)
DESCRIPTION:School not in session.
URL:https://eagleview.sd61.bc.ca/calendar-event/professional-development-day-school-based-2/
LOCATION:Eagle View Elementary\, 97 Talcott Road\, Victoria\, BC\, V9B 6L9\, Canada
END:VEVENT
BEGIN:VEVENT
DTSTART;TZID=America/Vancouver:20131121T170000
DTEND;TZID=America/Vancouver:20131121T200000
DTSTAMP:20260419T233151
CREATED:20130604T200756Z
LAST-MODIFIED:20130604T204550Z
UID:2568-1385053200-1385064000@eagleview.sd61.bc.ca
SUMMARY:THE FALL FAIR
DESCRIPTION:Please make sure to ‘ink’ this amazing school event into your calendar. The Fall Fair has become a great tradition at Eagle View known for  food\, family & fun!
URL:https://eagleview.sd61.bc.ca/calendar-event/the-fall-fair/
LOCATION:Eagle View Elementary\, 97 Talcott Road\, Victoria\, BC\, V9B 6L9\, Canada
END:VEVENT
BEGIN:VEVENT
DTSTART;TZID=America/Vancouver:20131121T083000
DTEND;TZID=America/Vancouver:20131121T113000
DTSTAMP:20260419T233151
CREATED:20130911T203156Z
LAST-MODIFIED:20130911T203156Z
UID:3260-1385022600-1385033400@eagleview.sd61.bc.ca
SUMMARY:Div 5 Field Trip
DESCRIPTION:Mrs. Christoff’s class is going to Goldstream Nature House; leaving at 8:30 and returning at 11:30 a.m.
URL:https://eagleview.sd61.bc.ca/calendar-event/div-5-field-trip-3/
LOCATION:Eagle View Elementary\, 97 Talcott Road\, Victoria\, V9B 6L9\, Canada
END:VEVENT
BEGIN:VEVENT
DTSTART;TZID=America/Vancouver:20131120T083000
DTEND;TZID=America/Vancouver:20131120T143000
DTSTAMP:20260419T233151
CREATED:20131104T223219Z
LAST-MODIFIED:20131104T223353Z
UID:3919-1384936200-1384957800@eagleview.sd61.bc.ca
SUMMARY:Hoop Dancer (Teddy Anderson)
DESCRIPTION:Teddy Anderson\, First Nation’s Hoop Dancer will be at our school today working with all our students on the traditional art of hoop dancing.
URL:https://eagleview.sd61.bc.ca/calendar-event/hoop-dancer-teddy-anderson/
LOCATION:Eagle View Elementary\, 97 Talcott Road\, Victoria\, V9B 6L9\, Canada
END:VEVENT
BEGIN:VEVENT
DTSTART;TZID=America/Vancouver:20131119T151500
DTEND;TZID=America/Vancouver:20131119T160000
DTSTAMP:20260419T233151
CREATED:20131029T212946Z
LAST-MODIFIED:20131029T215802Z
UID:3848-1384874100-1384876800@eagleview.sd61.bc.ca
SUMMARY:Swim Team Practice
DESCRIPTION:Please contact Pam Wiersma if you have any questions.
URL:https://eagleview.sd61.bc.ca/calendar-event/swim-team-practice-3/
LOCATION:Commonwealth Pool\, 4636 Elk Lake Drive\, Victoria\, BC\, V8Z 5M1\, Canada
ORGANIZER;CN="Pam Wiersma":MAILTO:pwiersma@sd61.bc.ca
END:VEVENT
BEGIN:VEVENT
DTSTART;TZID=America/Vancouver:20131119T123000
DTEND;TZID=America/Vancouver:20131119T140000
DTSTAMP:20260419T233151
CREATED:20131104T230122Z
LAST-MODIFIED:20131104T230122Z
UID:3935-1384864200-1384869600@eagleview.sd61.bc.ca
SUMMARY:Field Trip - Divs 7 & 8
DESCRIPTION:Divisions 7 and 8 are heading off on to Mill Hill Regional Park this afternoon to learn about bats.
URL:https://eagleview.sd61.bc.ca/calendar-event/field-trip-divs-7-8/
LOCATION:Mill Hill Regional Park\, BC\, Canada
END:VEVENT
BEGIN:VEVENT
DTSTART;TZID=America/Vancouver:20131115T114000
DTEND;TZID=America/Vancouver:20131115T121000
DTSTAMP:20260419T233151
CREATED:20130604T193533Z
LAST-MODIFIED:20130604T194023Z
UID:2546-1384515600-1384517400@eagleview.sd61.bc.ca
SUMMARY:Subway Lunch
DESCRIPTION:This is a PAC organized fund raiser lunch completely optional for students.
URL:https://eagleview.sd61.bc.ca/calendar-event/subway-lunch-2/
LOCATION:Eagle View Elementary\, 97 Talcott Road\, Victoria\, BC\, V9B 6L9\, Canada
END:VEVENT
BEGIN:VEVENT
DTSTART;TZID=America/Vancouver:20131115T090000
DTEND;TZID=America/Vancouver:20131115T113000
DTSTAMP:20260419T233151
CREATED:20131104T230650Z
LAST-MODIFIED:20131104T230852Z
UID:3938-1384506000-1384515000@eagleview.sd61.bc.ca
SUMMARY:Field Trip - Divs 1\, 2 & 3
DESCRIPTION:The grade 4 and 5 students are off to Pearkes Arena this morning to skate…enjoy!
URL:https://eagleview.sd61.bc.ca/calendar-event/field-trip-divs-1-2-3/
LOCATION:Pearkes Arena\, 3100 Tillicum Rd\, Victoria\, BC\, V9A 6T2\, Canada
END:VEVENT
BEGIN:VEVENT
DTSTART;TZID=America/Vancouver:20131113T183000
DTEND;TZID=America/Vancouver:20131113T200000
DTSTAMP:20260419T233151
CREATED:20130604T200125Z
LAST-MODIFIED:20130604T200125Z
UID:2565-1384367400-1384372800@eagleview.sd61.bc.ca
SUMMARY:PAC Mtg
DESCRIPTION:All parents are welcome to attend the monthly meeting.
URL:https://eagleview.sd61.bc.ca/calendar-event/pac-mtg-3/
LOCATION:Eagle View Library\, 97 Talcott Road\, Victoria\, BC\, V9B 6L9\, Canada
END:VEVENT
BEGIN:VEVENT
DTSTART;TZID=America/Vancouver:20131112T151500
DTEND;TZID=America/Vancouver:20131112T160000
DTSTAMP:20260419T233151
CREATED:20131029T212202Z
LAST-MODIFIED:20131029T215541Z
UID:3845-1384269300-1384272000@eagleview.sd61.bc.ca
SUMMARY:Swim Team Practice
DESCRIPTION:If you have any questions\, please contact Pam Wiersma at the school.
URL:https://eagleview.sd61.bc.ca/calendar-event/swim-team-practice-2/
LOCATION:Commonwealth Pool\, 4636 Elk Lake Drive\, Victoria\, BC\, V8Z 5M1\, Canada
ORGANIZER;CN="Pam Wiersma":MAILTO:pwiersma@sd61.bc.ca
END:VEVENT
BEGIN:VEVENT
DTSTART;VALUE=DATE:20131111
DTEND;VALUE=DATE:20131112
DTSTAMP:20260419T233151
CREATED:20130604T195814Z
LAST-MODIFIED:20130604T195814Z
UID:2562-1384128000-1384214399@eagleview.sd61.bc.ca
SUMMARY:Remembrance Day
DESCRIPTION:School not in session.
URL:https://eagleview.sd61.bc.ca/calendar-event/remembrance-day/
LOCATION:Eagle View Elementary\, 97 Talcott Road\, Victoria\, BC\, V9B 6L9\, Canada
END:VEVENT
BEGIN:VEVENT
DTSTART;TZID=America/Vancouver:20131108T104500
DTEND;TZID=America/Vancouver:20131108T111500
DTSTAMP:20260419T233151
CREATED:20130604T195432Z
LAST-MODIFIED:20130604T195555Z
UID:2559-1383907500-1383909300@eagleview.sd61.bc.ca
SUMMARY:Remembrance Day Assembly
DESCRIPTION:Please join us to honour our brave men and women who have served and serve in the Armed Forces.
URL:https://eagleview.sd61.bc.ca/calendar-event/remembrance-day-assembly/
LOCATION:Eagle View Gymnasium\, 97 Talcott Road\, Victoria\, BC\, V9B 6L9\, Canada
END:VEVENT
BEGIN:VEVENT
DTSTART;TZID=America/Vancouver:20131105T151500
DTEND;TZID=America/Vancouver:20131105T160000
DTSTAMP:20260419T233151
CREATED:20131029T205827Z
LAST-MODIFIED:20131029T215644Z
UID:3841-1383664500-1383667200@eagleview.sd61.bc.ca
SUMMARY:Swim Team Practice
DESCRIPTION:Please contact Pam Wiersma if you have any questions.
URL:https://eagleview.sd61.bc.ca/calendar-event/swim-team-practice/
LOCATION:Commonwealth Pool\, 4636 Elk Lake Drive\, Victoria\, BC\, V8Z 5M1\, Canada
ORGANIZER;CN="Pam Wiersma":MAILTO:pwiersma@sd61.bc.ca
END:VEVENT
BEGIN:VEVENT
DTSTART;TZID=America/Vancouver:20131105T091500
DTEND;TZID=America/Vancouver:20131105T104500
DTSTAMP:20260419T233151
CREATED:20131104T232327Z
LAST-MODIFIED:20131104T232327Z
UID:3941-1383642900-1383648300@eagleview.sd61.bc.ca
SUMMARY:Field Trip - Divs 7 & 8
DESCRIPTION:Divs 7 & 8 are off for a skate at Pearkes Arena this morning!
URL:https://eagleview.sd61.bc.ca/calendar-event/field-trip-divs-7-8-2/
LOCATION:Pearkes Arena\, 3100 Tillicum Rd\, Victoria\, BC\, V9A 6T2\, Canada
END:VEVENT
BEGIN:VEVENT
DTSTART;TZID=America/Vancouver:20131105T090000
DTEND;TZID=America/Vancouver:20131105T114000
DTSTAMP:20260419T233151
CREATED:20130604T194751Z
LAST-MODIFIED:20130604T195051Z
UID:2556-1383642000-1383651600@eagleview.sd61.bc.ca
SUMMARY:Photo Retake Morning
DESCRIPTION:For any students and staff who missed the first photo day in September…
URL:https://eagleview.sd61.bc.ca/calendar-event/photo-retake-morning/
LOCATION:Eagle View Nest\, 97 Talcott Road\, Victoria\, BC\, V9B 6L9\, Canada
END:VEVENT
BEGIN:VEVENT
DTSTART;TZID=America/Vancouver:20131104T090000
DTEND;TZID=America/Vancouver:20131108T120000
DTSTAMP:20260419T233151
CREATED:20131104T225151Z
LAST-MODIFIED:20131104T225151Z
UID:3932-1383555600-1383912000@eagleview.sd61.bc.ca
SUMMARY:First Nations Storytelling & Drumming
DESCRIPTION:First Nation’s Teacher\, Louise Milburn will be in the school this week working with all our students on traditional storytelling and drumming.
URL:https://eagleview.sd61.bc.ca/calendar-event/first-nations-storytelling-drumming/
LOCATION:Eagle View Elementary\, 97 Talcott Road\, Victoria\, BC\, V9B 6L9\, Canada
END:VEVENT
BEGIN:VEVENT
DTSTART;TZID=America/Vancouver:20131101T102000
DTEND;TZID=America/Vancouver:20131101T103000
DTSTAMP:20260419T233151
CREATED:20130604T194335Z
LAST-MODIFIED:20130604T204655Z
UID:2552-1383301200-1383301800@eagleview.sd61.bc.ca
SUMMARY:Popcorn Recess
DESCRIPTION:This is a PAC organized fund raiser completely optional for students.
URL:https://eagleview.sd61.bc.ca/calendar-event/popcorn-recess-3/
LOCATION:Eagle View Elementary\, 97 Talcott Road\, Victoria\, BC\, V9B 6L9\, Canada
END:VEVENT
BEGIN:VEVENT
DTSTART;TZID=America/Vancouver:20131031T080000
DTEND;TZID=America/Vancouver:20131031T170000
DTSTAMP:20260419T233151
CREATED:20130604T192746Z
LAST-MODIFIED:20130604T194023Z
UID:2543-1383206400-1383238800@eagleview.sd61.bc.ca
SUMMARY:Black & Orange Day
DESCRIPTION:Our traditional black & orange theme colors are worn today rather than costumes.
URL:https://eagleview.sd61.bc.ca/calendar-event/black-orange-day/
LOCATION:Eagle View Elementary\, 97 Talcott Road\, Victoria\, BC\, V9B 6L9\, Canada
END:VEVENT
BEGIN:VEVENT
DTSTART;TZID=America/Vancouver:20131028T130000
DTEND;TZID=America/Vancouver:20131028T143000
DTSTAMP:20260419T233151
CREATED:20130702T165259Z
LAST-MODIFIED:20131021T200957Z
UID:3045-1382965200-1382970600@eagleview.sd61.bc.ca
SUMMARY:Cross Country Final
DESCRIPTION:For grades 3\, 4 & 5 students at Beacon Hill Park.
URL:https://eagleview.sd61.bc.ca/calendar-event/cross-country-final/
LOCATION:Beacon Hill Park\, 97 Talcott Road\, Victoria\, BC\, V9B 6L9\, Canada
END:VEVENT
BEGIN:VEVENT
DTSTART;TZID=America/Vancouver:20131025T080000
DTEND;TZID=America/Vancouver:20131025T170000
DTSTAMP:20260419T233151
CREATED:20130604T183938Z
LAST-MODIFIED:20130604T194023Z
UID:2540-1382688000-1382720400@eagleview.sd61.bc.ca
SUMMARY:Professional Development Day (Provincial)
DESCRIPTION:School not in session.
URL:https://eagleview.sd61.bc.ca/calendar-event/professional-development-day-provincial/
LOCATION:Eagle View Elementary\, 97 Talcott Road\, Victoria\, V9B 6L9\, Canada
END:VEVENT
END:VCALENDAR