BEGIN:VCALENDAR
VERSION:2.0
PRODID:-//Eagle View Elementary - ECPv6.2.8.1//NONSGML v1.0//EN
CALSCALE:GREGORIAN
METHOD:PUBLISH
X-WR-CALNAME:Eagle View Elementary
X-ORIGINAL-URL:https://eagleview.sd61.bc.ca
X-WR-CALDESC:Events for Eagle View Elementary
REFRESH-INTERVAL;VALUE=DURATION:PT1H
X-Robots-Tag:noindex
X-PUBLISHED-TTL:PT1H
BEGIN:VTIMEZONE
TZID:America/Vancouver
BEGIN:DAYLIGHT
TZOFFSETFROM:-0800
TZOFFSETTO:-0700
TZNAME:PDT
DTSTART:20170312T100000
END:DAYLIGHT
BEGIN:STANDARD
TZOFFSETFROM:-0700
TZOFFSETTO:-0800
TZNAME:PST
DTSTART:20171105T090000
END:STANDARD
END:VTIMEZONE
BEGIN:VEVENT
DTSTART;TZID=America/Vancouver:20170928T133000
DTEND;TZID=America/Vancouver:20170928T143000
DTSTAMP:20260425T190104
CREATED:20170914T165621Z
LAST-MODIFIED:20170914T165621Z
UID:9146-1506605400-1506609000@eagleview.sd61.bc.ca
SUMMARY:Walk-a-thon
DESCRIPTION:
URL:https://eagleview.sd61.bc.ca/calendar-event/walk-a-thon/
END:VEVENT
BEGIN:VEVENT
DTSTART;TZID=America/Vancouver:20170928T173000
DTEND;TZID=America/Vancouver:20170928T180000
DTSTAMP:20260425T190104
CREATED:20170914T165406Z
LAST-MODIFIED:20170914T165406Z
UID:9142-1506619800-1506621600@eagleview.sd61.bc.ca
SUMMARY:Meet the Teacher
DESCRIPTION:
URL:https://eagleview.sd61.bc.ca/calendar-event/meet-the-teacher-4/
END:VEVENT
BEGIN:VEVENT
DTSTART;TZID=America/Vancouver:20170928T180000
DTEND;TZID=America/Vancouver:20170928T193000
DTSTAMP:20260425T190104
CREATED:20170914T165446Z
LAST-MODIFIED:20170914T170207Z
UID:9144-1506621600-1506627000@eagleview.sd61.bc.ca
SUMMARY:PAC BBQ
DESCRIPTION:Bring a blanket and join us for dinner
URL:https://eagleview.sd61.bc.ca/calendar-event/pac-bbq/
END:VEVENT
BEGIN:VEVENT
DTSTART;VALUE=DATE:20170929
DTEND;VALUE=DATE:20170930
DTSTAMP:20260425T190104
CREATED:20170914T165657Z
LAST-MODIFIED:20170914T165657Z
UID:9148-1506643200-1506729599@eagleview.sd61.bc.ca
SUMMARY:Orange Shirt Day
DESCRIPTION:
URL:https://eagleview.sd61.bc.ca/calendar-event/orange-shirt-day-2/
END:VEVENT
END:VCALENDAR