BEGIN:VCALENDAR
VERSION:2.0
PRODID:-//Eagle View Elementary - ECPv6.2.8.1//NONSGML v1.0//EN
CALSCALE:GREGORIAN
METHOD:PUBLISH
X-WR-CALNAME:Eagle View Elementary
X-ORIGINAL-URL:https://eagleview.sd61.bc.ca
X-WR-CALDESC:Events for Eagle View Elementary
REFRESH-INTERVAL;VALUE=DURATION:PT1H
X-Robots-Tag:noindex
X-PUBLISHED-TTL:PT1H
BEGIN:VTIMEZONE
TZID:America/Vancouver
BEGIN:DAYLIGHT
TZOFFSETFROM:-0800
TZOFFSETTO:-0700
TZNAME:PDT
DTSTART:20140309T100000
END:DAYLIGHT
BEGIN:STANDARD
TZOFFSETFROM:-0700
TZOFFSETTO:-0800
TZNAME:PST
DTSTART:20141102T090000
END:STANDARD
END:VTIMEZONE
BEGIN:VEVENT
DTSTART;TZID=America/Vancouver:20140213T080000
DTEND;TZID=America/Vancouver:20140221T160000
DTSTAMP:20260419T143028
CREATED:20130606T205052Z
LAST-MODIFIED:20130606T205052Z
UID:2715-1392278400-1392998400@eagleview.sd61.bc.ca
SUMMARY:K - 12 Transfer Process
DESCRIPTION:The process begins at 8:00 am\, February 13 and ends at 4:00 pm\, February 21. Forms must be submitted to the Board Office.
URL:https://eagleview.sd61.bc.ca/calendar-event/k-12-transfer-process/
LOCATION:Board Office\, 556 Boleskine Rd.\, Victoria\, BC\, Canada
END:VEVENT
BEGIN:VEVENT
DTSTART;VALUE=DATE:20140214
DTEND;VALUE=DATE:20140215
DTSTAMP:20260419T143028
CREATED:20130606T212101Z
LAST-MODIFIED:20130606T212101Z
UID:2727-1392336000-1392422399@eagleview.sd61.bc.ca
SUMMARY:Pink\, Red & White Day
DESCRIPTION:Please join us on our theme day!
URL:https://eagleview.sd61.bc.ca/calendar-event/pink-red-white-day-2/
LOCATION:Eagle View Elementary\, 97 Talcott Road\, Victoria\, BC\, V9B 6L9\, Canada
END:VEVENT
END:VCALENDAR