BEGIN:VCALENDAR
VERSION:2.0
PRODID:-//Eagle View Elementary - ECPv6.2.8.1//NONSGML v1.0//EN
CALSCALE:GREGORIAN
METHOD:PUBLISH
X-WR-CALNAME:Eagle View Elementary
X-ORIGINAL-URL:https://eagleview.sd61.bc.ca
X-WR-CALDESC:Events for Eagle View Elementary
REFRESH-INTERVAL;VALUE=DURATION:PT1H
X-Robots-Tag:noindex
X-PUBLISHED-TTL:PT1H
BEGIN:VTIMEZONE
TZID:America/Vancouver
BEGIN:DAYLIGHT
TZOFFSETFROM:-0800
TZOFFSETTO:-0700
TZNAME:PDT
DTSTART:20140309T100000
END:DAYLIGHT
BEGIN:STANDARD
TZOFFSETFROM:-0700
TZOFFSETTO:-0800
TZNAME:PST
DTSTART:20141102T090000
END:STANDARD
END:VTIMEZONE
BEGIN:VEVENT
DTSTART;TZID=America/Vancouver:20140124T130000
DTEND;TZID=America/Vancouver:20140124T140000
DTSTAMP:20260420T044008
CREATED:20130606T204029Z
LAST-MODIFIED:20130606T204029Z
UID:2706-1390568400-1390572000@eagleview.sd61.bc.ca
SUMMARY:Ready\, Set\, Learn
DESCRIPTION:Today we are hosting parents and their children (ages 3 & 4) in our school gymnasium.
URL:https://eagleview.sd61.bc.ca/calendar-event/ready-set-learn/
LOCATION:Eagle View Gymnasium\, 97 Talcott Road\, Victoria\, BC\, V9B 6L9\, Canada
END:VEVENT
BEGIN:VEVENT
DTSTART;TZID=America/Vancouver:20140125T110000
DTEND;TZID=America/Vancouver:20140125T140000
DTSTAMP:20260420T044008
CREATED:20131029T220833Z
LAST-MODIFIED:20140124T162749Z
UID:3878-1390647600-1390658400@eagleview.sd61.bc.ca
SUMMARY:Stand Up & Race (Swim Team)
DESCRIPTION:Please contact Mrs. Wiersma for more details.
URL:https://eagleview.sd61.bc.ca/calendar-event/stand-up-race-swim-team/
LOCATION:Commonwealth Pool\, 4636 Elk Lake Drive\, Victoria\, BC\, V8Z 5M1\, Canada
ORGANIZER;CN="Pam Wiersma":MAILTO:pwiersma@sd61.bc.ca
END:VEVENT
END:VCALENDAR