BEGIN:VCALENDAR
VERSION:2.0
PRODID:-//Eagle View Elementary - ECPv6.2.8.1//NONSGML v1.0//EN
CALSCALE:GREGORIAN
METHOD:PUBLISH
X-ORIGINAL-URL:https://eagleview.sd61.bc.ca
X-WR-CALDESC:Events for Eagle View Elementary
REFRESH-INTERVAL;VALUE=DURATION:PT1H
X-Robots-Tag:noindex
X-PUBLISHED-TTL:PT1H
BEGIN:VTIMEZONE
TZID:America/Vancouver
BEGIN:DAYLIGHT
TZOFFSETFROM:-0800
TZOFFSETTO:-0700
TZNAME:PDT
DTSTART:20130310T100000
END:DAYLIGHT
BEGIN:STANDARD
TZOFFSETFROM:-0700
TZOFFSETTO:-0800
TZNAME:PST
DTSTART:20131103T090000
END:STANDARD
BEGIN:DAYLIGHT
TZOFFSETFROM:-0800
TZOFFSETTO:-0700
TZNAME:PDT
DTSTART:20140309T100000
END:DAYLIGHT
BEGIN:STANDARD
TZOFFSETFROM:-0700
TZOFFSETTO:-0800
TZNAME:PST
DTSTART:20141102T090000
END:STANDARD
END:VTIMEZONE
BEGIN:VEVENT
DTSTART;TZID=America/Vancouver:20131220T080000
DTEND;TZID=America/Vancouver:20131220T170000
DTSTAMP:20260420T200536
CREATED:20130604T205722Z
LAST-MODIFIED:20130604T205722Z
UID:2586-1387526400-1387558800@eagleview.sd61.bc.ca
SUMMARY:Pajama Day
DESCRIPTION:As part of tradition\, students and staff come to school in their pajamas the last day before holidays.
URL:https://eagleview.sd61.bc.ca/calendar-event/pajama-day/
LOCATION:Eagle View Elementary\, 97 Talcott Road\, Victoria\, BC\, V9B 6L9\, Canada
END:VEVENT
BEGIN:VEVENT
DTSTART;TZID=America/Vancouver:20131220T114000
DTEND;TZID=America/Vancouver:20131220T120500
DTSTAMP:20260420T200536
CREATED:20131127T211549Z
LAST-MODIFIED:20131127T211549Z
UID:4446-1387539600-1387541100@eagleview.sd61.bc.ca
SUMMARY:Pizza Lunch
DESCRIPTION:Optional pizza lunch hosted by the PAC
URL:https://eagleview.sd61.bc.ca/calendar-event/pizza-lunch-9/
LOCATION:Eagle View Elementary\, 97 Talcott Road\, Victoria\, BC\, V9B 6L9\, Canada
END:VEVENT
BEGIN:VEVENT
DTSTART;TZID=America/Vancouver:20131221T000000
DTEND;TZID=America/Vancouver:20140105T010000
DTSTAMP:20260420T200536
CREATED:20130604T210356Z
LAST-MODIFIED:20130604T210504Z
UID:2592-1387584000-1388883600@eagleview.sd61.bc.ca
SUMMARY:Christmas Holidays
DESCRIPTION:
URL:https://eagleview.sd61.bc.ca/calendar-event/christmas-holidays/
LOCATION:Eagle View Elementary\, 97 Talcott Road\, Victoria\, BC\, V9B 6L9\, Canada
END:VEVENT
END:VCALENDAR