BEGIN:VCALENDAR
VERSION:2.0
PRODID:-//Eagle View Elementary - ECPv6.2.8.1//NONSGML v1.0//EN
CALSCALE:GREGORIAN
METHOD:PUBLISH
X-WR-CALNAME:Eagle View Elementary
X-ORIGINAL-URL:https://eagleview.sd61.bc.ca
X-WR-CALDESC:Events for Eagle View Elementary
REFRESH-INTERVAL;VALUE=DURATION:PT1H
X-Robots-Tag:noindex
X-PUBLISHED-TTL:PT1H
BEGIN:VTIMEZONE
TZID:America/Vancouver
BEGIN:DAYLIGHT
TZOFFSETFROM:-0800
TZOFFSETTO:-0700
TZNAME:PDT
DTSTART:20130310T100000
END:DAYLIGHT
BEGIN:STANDARD
TZOFFSETFROM:-0700
TZOFFSETTO:-0800
TZNAME:PST
DTSTART:20131103T090000
END:STANDARD
END:VTIMEZONE
BEGIN:VEVENT
DTSTART;TZID=America/Vancouver:20131120T083000
DTEND;TZID=America/Vancouver:20131120T143000
DTSTAMP:20260421T015307
CREATED:20131104T223219Z
LAST-MODIFIED:20131104T223353Z
UID:3919-1384936200-1384957800@eagleview.sd61.bc.ca
SUMMARY:Hoop Dancer (Teddy Anderson)
DESCRIPTION:Teddy Anderson\, First Nation’s Hoop Dancer will be at our school today working with all our students on the traditional art of hoop dancing.
URL:https://eagleview.sd61.bc.ca/calendar-event/hoop-dancer-teddy-anderson/
LOCATION:Eagle View Elementary\, 97 Talcott Road\, Victoria\, V9B 6L9\, Canada
END:VEVENT
BEGIN:VEVENT
DTSTART;TZID=America/Vancouver:20131121T083000
DTEND;TZID=America/Vancouver:20131121T113000
DTSTAMP:20260421T015307
CREATED:20130911T203156Z
LAST-MODIFIED:20130911T203156Z
UID:3260-1385022600-1385033400@eagleview.sd61.bc.ca
SUMMARY:Div 5 Field Trip
DESCRIPTION:Mrs. Christoff’s class is going to Goldstream Nature House; leaving at 8:30 and returning at 11:30 a.m.
URL:https://eagleview.sd61.bc.ca/calendar-event/div-5-field-trip-3/
LOCATION:Eagle View Elementary\, 97 Talcott Road\, Victoria\, V9B 6L9\, Canada
END:VEVENT
END:VCALENDAR