BEGIN:VCALENDAR
VERSION:2.0
PRODID:-//Eagle View Elementary - ECPv6.2.8.1//NONSGML v1.0//EN
CALSCALE:GREGORIAN
METHOD:PUBLISH
X-ORIGINAL-URL:https://eagleview.sd61.bc.ca
X-WR-CALDESC:Events for Eagle View Elementary
REFRESH-INTERVAL;VALUE=DURATION:PT1H
X-Robots-Tag:noindex
X-PUBLISHED-TTL:PT1H
BEGIN:VTIMEZONE
TZID:America/Vancouver
BEGIN:DAYLIGHT
TZOFFSETFROM:-0800
TZOFFSETTO:-0700
TZNAME:PDT
DTSTART:20130310T100000
END:DAYLIGHT
BEGIN:STANDARD
TZOFFSETFROM:-0700
TZOFFSETTO:-0800
TZNAME:PST
DTSTART:20131103T090000
END:STANDARD
END:VTIMEZONE
BEGIN:VEVENT
DTSTART;TZID=America/Vancouver:20130926T125000
DTEND;TZID=America/Vancouver:20130926T141000
DTSTAMP:20260421T173552
CREATED:20130911T201452Z
LAST-MODIFIED:20130911T202106Z
UID:3251-1380199800-1380204600@eagleview.sd61.bc.ca
SUMMARY:Div 4 Field Trip
DESCRIPTION:Mrs. Dougan’s class is heading to the Juan de Fuca Library; leaving the school at 12:50 and returning at 2:10 p.m.
URL:https://eagleview.sd61.bc.ca/calendar-event/div-4-field-trip-juan-de-fuca-library/
LOCATION:Eagle View Elementary\, 97 Talcott Road\, Victoria\, BC\, V9B 6L9\, Canada
END:VEVENT
BEGIN:VEVENT
DTSTART;VALUE=DATE:20130927
DTEND;VALUE=DATE:20130928
DTSTAMP:20260421T173552
CREATED:20130516T214901Z
LAST-MODIFIED:20130604T194023Z
UID:927-1380240000-1380326399@eagleview.sd61.bc.ca
SUMMARY:Individual Student Photos
DESCRIPTION:Life Touch will be taking care of pictures for us again this year.
URL:https://eagleview.sd61.bc.ca/calendar-event/individual-student-photos/
LOCATION:Eagle View Elementary
ORGANIZER;CN="Eagle View Elementary":MAILTO:eagleview@sd61.bc.ca
END:VEVENT
END:VCALENDAR